BEGIN:VCALENDAR
VERSION:2.0
METHOD:PUBLISH
BEGIN:VEVENT
UID:event_108
DTSTAMP:20260421T012024Z
DTSTART:20240811T000000Z
DTEND:20240811T235900Z
SUMMARY:Melon flavors 10% off Melon Day
DESCRIPTION:
LOCATION:7231 Hinds Ave, North Hollywood, CA 91605
END:VEVENT
END:VCALENDAR
