BEGIN:VCALENDAR
VERSION:2.0
METHOD:PUBLISH
BEGIN:VEVENT
UID:event_224
DTSTAMP:20260421T012052Z
DTSTART:20241015T000000Z
DTEND:20241015T235900Z
SUMMARY:Lemon Bar Day
DESCRIPTION:
LOCATION:7231 Hinds Avenue, North Hollywood, California 91605
END:VEVENT
END:VCALENDAR
