BEGIN:VCALENDAR
VERSION:2.0
METHOD:PUBLISH
BEGIN:VEVENT
UID:event_263
DTSTAMP:20260421T012010Z
DTSTART:20241120T000000Z
DTEND:20241120T235900Z
SUMMARY:Wyld Wednesday
DESCRIPTION:
LOCATION:7231 Hinds Avenue, North Hollywood, California 91605
END:VEVENT
END:VCALENDAR
